BEGIN:VCALENDAR
VERSION:2.0
PRODID:-//Λάρισα | larisaevents.gr - Όλη η Λάρισα σε μια σελίδα - ECPv6.15.20//NONSGML v1.0//EN
CALSCALE:GREGORIAN
METHOD:PUBLISH
X-ORIGINAL-URL:https://www.larisaevents.gr
X-WR-CALDESC:Events for Λάρισα | larisaevents.gr - Όλη η Λάρισα σε μια σελίδα
REFRESH-INTERVAL;VALUE=DURATION:PT1H
X-Robots-Tag:noindex
X-PUBLISHED-TTL:PT1H
BEGIN:VTIMEZONE
TZID:Europe/Helsinki
BEGIN:DAYLIGHT
TZOFFSETFROM:+0200
TZOFFSETTO:+0300
TZNAME:EEST
DTSTART:20250330T010000
END:DAYLIGHT
BEGIN:STANDARD
TZOFFSETFROM:+0300
TZOFFSETTO:+0200
TZNAME:EET
DTSTART:20251026T010000
END:STANDARD
BEGIN:DAYLIGHT
TZOFFSETFROM:+0200
TZOFFSETTO:+0300
TZNAME:EEST
DTSTART:20260329T010000
END:DAYLIGHT
BEGIN:STANDARD
TZOFFSETFROM:+0300
TZOFFSETTO:+0200
TZNAME:EET
DTSTART:20261025T010000
END:STANDARD
BEGIN:DAYLIGHT
TZOFFSETFROM:+0200
TZOFFSETTO:+0300
TZNAME:EEST
DTSTART:20270328T010000
END:DAYLIGHT
BEGIN:STANDARD
TZOFFSETFROM:+0300
TZOFFSETTO:+0200
TZNAME:EET
DTSTART:20271031T010000
END:STANDARD
END:VTIMEZONE
BEGIN:VEVENT
DTSTART;TZID=Europe/Helsinki:20260222T210000
DTEND;TZID=Europe/Helsinki:20260222T233000
DTSTAMP:20260421T211643
CREATED:20260219T110156Z
LAST-MODIFIED:20260219T110156Z
UID:10002219-1771794000-1771803000@www.larisaevents.gr
SUMMARY:Αποκριά στο Φρούριο με Masque Party
DESCRIPTION:Σε αποκριάτικους ρυθμούς κινείται φέτος το Φρούριο Λάρισας\, με το ΦΡΟΥΡΙΟ να διοργανώνει ένα ξεχωριστό Masque Party την Κυριακή 22 Φεβρουαρίου στις 21:00. \nΗ βραδιά υπόσχεται ατμόσφαιρα μυστηρίου\, εντυπωσιακές μάσκες και δυνατή disco διάθεση\, μεταφέροντας το κοινό σε μια νύχτα γεμάτη ρυθμό και θεματικό κλίμα. Το Masque Party έρχεται να δώσει έναν διαφορετικό χαρακτήρα στις φετινές Απόκριες\, συνδυάζοντας κομψότητα και διασκέδαση. \nΣτα decks θα βρίσκεται ο αγαπημένος DJ της πόλης\, Τάσος Γέμτος\, ο οποίος θα παρουσιάσει ένα εκρηκτικό μουσικό ταξίδι με επιλεγμένες επιτυχίες από τις δεκαετίες του ’80 και του ’90\, δημιουργώντας την αίσθηση μιας αυθεντικής ντισκοτέκ. Το πρόγραμμα έχει σχεδιαστεί ώστε να κρατήσει τη διάθεση στα ύψη\, με χορό και διασκέδαση μέχρι αργά. \nΟ χώρος του ΦΡΟΥΡΙΟ\, στον Λόφο Φρουρίου\, αποτελεί ένα από τα πιο ιδιαίτερα σημεία διασκέδασης στη Λάρισα\, προσφέροντας μοναδικό περιβάλλον για θεματικές βραδιές και ξεχωριστά events. \nΗμερομηνία: Κυριακή 22 ΦεβρουαρίουΏρα έναρξης: 21:00Χώρος: ΦΡΟΥΡΙΟ\, Λόφος Φρουρίου\, ΛάρισαΤηλέφωνο κρατήσεων: 2410 251707 \nΜια αποκριάτικη βραδιά με μάσκες\, disco ρυθμούς και ατμόσφαιρα που υπόσχεται να ξεχωρίσει στο φετινό πρόγραμμα των εκδηλώσεων της πόλης.
URL:https://www.larisaevents.gr/event/apokria-sto-frourio-me-masque-party/
LOCATION:ΦΡΟΥΡΙΟ\, Λόφος Φρουρίου\, Λάρισα\, Thessaly\, 41447\, Greece
CATEGORIES:Μουσική
ATTACH;FMTTYPE=image/jpeg:https://www.larisaevents.gr/wp-content/uploads/2026/02/636800824_1497964922329261_8209848652654107771_n.jpg
END:VEVENT
END:VCALENDAR