BEGIN:VCALENDAR
VERSION:2.0
PRODID:-//Λάρισα | larisaevents.gr - Όλη η Λάρισα σε μια σελίδα - ECPv6.15.20//NONSGML v1.0//EN
CALSCALE:GREGORIAN
METHOD:PUBLISH
X-WR-CALNAME:Λάρισα | larisaevents.gr - Όλη η Λάρισα σε μια σελίδα
X-ORIGINAL-URL:https://www.larisaevents.gr
X-WR-CALDESC:Events for Λάρισα | larisaevents.gr - Όλη η Λάρισα σε μια σελίδα
REFRESH-INTERVAL;VALUE=DURATION:PT1H
X-Robots-Tag:noindex
X-PUBLISHED-TTL:PT1H
BEGIN:VTIMEZONE
TZID:Europe/Helsinki
BEGIN:DAYLIGHT
TZOFFSETFROM:+0200
TZOFFSETTO:+0300
TZNAME:EEST
DTSTART:20230326T010000
END:DAYLIGHT
BEGIN:STANDARD
TZOFFSETFROM:+0300
TZOFFSETTO:+0200
TZNAME:EET
DTSTART:20231029T010000
END:STANDARD
BEGIN:DAYLIGHT
TZOFFSETFROM:+0200
TZOFFSETTO:+0300
TZNAME:EEST
DTSTART:20240331T010000
END:DAYLIGHT
BEGIN:STANDARD
TZOFFSETFROM:+0300
TZOFFSETTO:+0200
TZNAME:EET
DTSTART:20241027T010000
END:STANDARD
BEGIN:DAYLIGHT
TZOFFSETFROM:+0200
TZOFFSETTO:+0300
TZNAME:EEST
DTSTART:20250330T010000
END:DAYLIGHT
BEGIN:STANDARD
TZOFFSETFROM:+0300
TZOFFSETTO:+0200
TZNAME:EET
DTSTART:20251026T010000
END:STANDARD
END:VTIMEZONE
BEGIN:VEVENT
DTSTART;TZID=Europe/Helsinki:20240719T233000
DTEND;TZID=Europe/Helsinki:20240719T233000
DTSTAMP:20260422T135837
CREATED:20240717T090635Z
LAST-MODIFIED:20240717T090640Z
UID:10000461-1721431800-1721431800@www.larisaevents.gr
SUMMARY:Η Ήβη Αδάμου στη Λάρισα
DESCRIPTION:Παρασκευη 19 Ιουλίου  μία νυχτα διαφορετική αφιερωμένη για σενα \nΗ Ηβη Αδάμου έρχεται στο ΕΛΙΤ για μια βραδια μοναδικη και μας ριχνει βαθιά στη διασκεδαση. \nΠαρασκευη 19 Ιουλίου η Ηβη Αδάμου στο ΕΛΙΤ sto 5ο χλμ Λαρισας-Φαρσαλων\, ειπες ότι θα εισαι εκει… \nRSVP: 6986032781 και 6979882176
URL:https://www.larisaevents.gr/event/i-ivi-adamou-sti-larisa/
LOCATION:ΕΛΙΤ Paradise\, Νίκαια\, Λάρισας\, Θεσσαλία\, 41222\, Ελλάδα
CATEGORIES:Live
ATTACH;FMTTYPE=image/webp:https://www.larisaevents.gr/wp-content/uploads/2024/07/adamou.webp
END:VEVENT
END:VCALENDAR